BEGIN:VCALENDAR
VERSION:2.0
PRODID:-//feuerwehr-gersheim.de//NONSGML kigkonsult.se iCalcreator 2.30.10/
 /
CALSCALE:GREGORIAN
METHOD:PUBLISH
UID:99712b16-78ce-4d2b-a94e-31f13164b808
X-WR-CALNAME:iCagenda
X-WR-CALDESC:Event Management Extension for Joomla!
X-WR-RELCALID:3E26604A-50F4-4449-8B3E-E4F4932D05B5
X-WR-TIMEZONE:Europe/Berlin
BEGIN:VTIMEZONE
TZID:Europe/Berlin
BEGIN:STANDARD
TZNAME:CET
DTSTART:20251026T030000
TZOFFSETFROM:+0200
TZOFFSETTO:+0100
RDATE:20261025T030000
END:STANDARD
BEGIN:DAYLIGHT
TZNAME:CEST
DTSTART:20250330T020000
TZOFFSETFROM:+0100
TZOFFSETTO:+0200
RDATE:20260329T020000
RDATE:20270328T020000
END:DAYLIGHT
END:VTIMEZONE
BEGIN:VEVENT
UID:37f00cb2-2358-46da-ae9e-14c15d11825d
DTSTAMP:20260422T132320Z
CATEGORIES:Übung
CLASS:PUBLIC
DESCRIPTION;ALTREP="CID:<FFFF__=0ABBE548DFE235B58f9e8a93d@coffeebean.com>":
 Übung Gros Rederching
DTSTART:20251122T160000Z
DTEND:20251122T160000Z
GEO:00;0
LOCATION:TP Gerätehaus=> Gros Rederching
ORGANIZER:
SEQUENCE:1
SUMMARY:Übung Gros Rederching
TRANSP:OPAQUE
URL:https://www.feuerwehr-gersheim.de/index.php/termine/62-bma-loeschangrif
 f-4/2025-11-22-17-00
END:VEVENT
END:VCALENDAR
